BEGIN:VCALENDAR
VERSION:2.0
PRODID:-//ChamberMaster//Event Calendar 2.0//EN
METHOD:PUBLISH
X-PUBLISHED-TTL:P3D
REFRESH-INTERVAL:P3D
CALSCALE:GREGORIAN
BEGIN:VEVENT
DTSTART:20191122T013000Z
DTEND:20191122T033000Z
X-MICROSOFT-CDO-ALLDAYEVENT:FALSE
SUMMARY:2019.11.21 Mixer - Cameron Park CSD
DESCRIPTION:The Cameron Park Community Service District with Sign & Banner Print\, and Joe's Coffee & Deli proudly present: The El Dorado County and Shingle Springs/Cameron Park Chamber of Commerce November Joint Chamber Mixer\n\nThursday\, November 21\, 2019 | 5:30 PM - 7:30 PM\n\nCameron Park Community Center: 2502 Country Club Drive | Cameron Park\, CA 95682\n\n\n\nJoin us for an evening of networking\, raffle prizes\, no-host bar\, and catered hors d'oeuvres
X-ALT-DESC;FMTTYPE=text/html:The Cameron Park Community Service District with Sign &amp\; Banner Print\, and Joe&#39\;s Coffee &amp\; Deli proudly present: The El Dorado County and Shingle Springs/Cameron Park Chamber of Commerce November Joint Chamber Mixer<br />\nThursday\, November 21\, 2019 | 5:30 PM - 7:30 PM<br />\nCameron Park Community Center: 2502 Country Club Drive | Cameron Park\, CA 95682<br />\n<br />\nJoin us for an evening of networking\, raffle prizes\, no-host bar\, and catered hors d&#39\;oeuvres\n<table border="0" cellpadding="0" cellspacing="0" class="galileo-ap-layout-editor" style="border-collapse: collapse\; table-layout: fixed\; color: rgb(0\, 0\, 0)\; background-color: rgb(255\, 255\, 255)\; min-width: 100%\;" width="100%">\n	<tbody>\n	</tbody>\n</table>\n
LOCATION:2502 Country Club Dr. Cameron Park\, CA 95682
UID:e.1468.1021
SEQUENCE:3
DTSTAMP:20260424T090415Z
URL:http://eldoradocounty.chambermaster.com/events/details/2019-11-21-mixer-cameron-park-csd-1021
END:VEVENT

END:VCALENDAR
